BEGIN:VCALENDAR
VERSION:2.0
PRODID:-//wp-events-plugin.com//7.2.3.1//EN
BEGIN:VEVENT
UID:58@moh.gov.bt
DTSTART:20260417T000000Z
DTEND:20260417T000000Z
DTSTAMP:20260421T064126Z
URL:https://moh.gov.bt/events/he-ministry-of-health-hosted-a-presentation-
 on-the-proposed-list-of-hospitals-for-the-solar-pv-project-under-the-mitig
 ation-action-facility-maf/
SUMMARY:The Ministry of Health hosted a presentation on the proposed list o
 f hospitals for the Solar PV Project under the Mitigation Action Facility 
 (MAF)
DESCRIPTION:\nThe Ministry of Health hosted a presentation on the proposed 
 list of hospitals for the Solar PV Project under the Mitigation Action Fac
 ility (MAF)\, with support from UNDP and the Department of Energy. The ses
 sion was attended by the Hon’ble Lyonpo\, the Health Secretary\, and off
 icials from the National Medical Services and the Department of Public Hea
 lth.\n\n\nThe discussion focused on expanding the use of clean and reliabl
 e solar energy across health facilities to ensure uninterrupted services a
 nd enhance patient care. This initiative reflects the Ministry’s continu
 ed commitment to building a sustainable\, resilient\, and climate-friendly
  healthcare system for the people.\n
ATTACH;FMTTYPE=image/jpeg:https://moh.gov.bt/wp-content/uploads/2026/04/67
 4935974_1352707050015457_5068989618838941697_n.jpg
END:VEVENT
END:VCALENDAR